BEGIN:VCALENDAR
VERSION:2.0
PRODID:-//villeneuve-loubet.egliseunity.com - ECPv6.15.17//NONSGML v1.0//EN
CALSCALE:GREGORIAN
METHOD:PUBLISH
X-WR-CALNAME:villeneuve-loubet.egliseunity.com
X-ORIGINAL-URL:https://villeneuve-loubet.egliseunity.com
X-WR-CALDESC:Évènements pour villeneuve-loubet.egliseunity.com
REFRESH-INTERVAL;VALUE=DURATION:PT1H
X-Robots-Tag:noindex
X-PUBLISHED-TTL:PT1H
BEGIN:VTIMEZONE
TZID:Europe/Paris
BEGIN:DAYLIGHT
TZOFFSETFROM:+0100
TZOFFSETTO:+0200
TZNAME:CEST
DTSTART:20250330T010000
END:DAYLIGHT
BEGIN:STANDARD
TZOFFSETFROM:+0200
TZOFFSETTO:+0100
TZNAME:CET
DTSTART:20251026T010000
END:STANDARD
BEGIN:DAYLIGHT
TZOFFSETFROM:+0100
TZOFFSETTO:+0200
TZNAME:CEST
DTSTART:20260329T010000
END:DAYLIGHT
BEGIN:STANDARD
TZOFFSETFROM:+0200
TZOFFSETTO:+0100
TZNAME:CET
DTSTART:20261025T010000
END:STANDARD
BEGIN:DAYLIGHT
TZOFFSETFROM:+0100
TZOFFSETTO:+0200
TZNAME:CEST
DTSTART:20270328T010000
END:DAYLIGHT
BEGIN:STANDARD
TZOFFSETFROM:+0200
TZOFFSETTO:+0100
TZNAME:CET
DTSTART:20271031T010000
END:STANDARD
END:VTIMEZONE
BEGIN:VEVENT
DTSTART;VALUE=DATE:20260223
DTEND;VALUE=DATE:20260224
DTSTAMP:20260421T224710
CREATED:20260223T185722Z
LAST-MODIFIED:20260223T185722Z
UID:249-1771804800-1771891199@villeneuve-loubet.egliseunity.com
SUMMARY:Teste les évènements
DESCRIPTION:
URL:https://villeneuve-loubet.egliseunity.com/event/teste-les-evenements/
LOCATION:Test Evènements\, 118 Boulevard du test\, Villeneuve-Loubet\, 06270\, France
END:VEVENT
END:VCALENDAR